BEGIN:VCALENDAR
VERSION:2.0
PRODID:SchoolNow
CALSCALE:GREGORIAN
BEGIN:VEVENT
UID:8057feec-6a27-11ef-bc3f-0a58a9feac02
DTSTAMP:20240903T190536Z
SUMMARY:April 23\, 2025 - Early Dismissal @ 1:25 PM
URL;VALUE=URI:https://www.sylvan.k12.ca.us/schools/cf-brown/calendar/651549
 2/april-23-2025-early-dismissal-1-25-pm
DTSTART:20250423T202500Z
DTEND:20250423T212500Z
END:VEVENT
END:VCALENDAR
