BEGIN:VCALENDAR
VERSION:2.0
PRODID:SchoolNow
CALSCALE:GREGORIAN
BEGIN:VEVENT
UID:a55a7b54-6a2a-11ef-8612-0290f6182f23
DTSTAMP:20240903T192944Z
SUMMARY:September 26\, 2024 - Picture Day
URL;VALUE=URI:https://www.sylvan.k12.ca.us/schools/cf-brown/calendar/651573
 4/september-26-2024-picture-day
DTSTART;VALUE=DATE:20240926
DTEND;VALUE=DATE:20240927
END:VEVENT
END:VCALENDAR
