BEGIN:VCALENDAR
VERSION:2.0
PRODID:SchoolNow
CALSCALE:GREGORIAN
BEGIN:VEVENT
UID:b44dfffa-6a2a-11ef-99bd-0a58a9feac02
DTSTAMP:20240903T192950Z
SUMMARY:October 4\, 2024 - Jog-a-Thon
URL;VALUE=URI:https://www.sylvan.k12.ca.us/schools/cf-brown/calendar/651573
 5/october-4-2024-jog-a-thon
DTSTART;VALUE=DATE:20241004
DTEND;VALUE=DATE:20241005
END:VEVENT
END:VCALENDAR
