BEGIN:VCALENDAR
VERSION:2.0
PRODID:SchoolNow
CALSCALE:GREGORIAN
BEGIN:VEVENT
UID:dba3479a-6a2a-11ef-bfe7-0a58a9feac02
DTSTAMP:20240903T192937Z
SUMMARY:October 16\, 2024 - Unity Day
URL;VALUE=URI:https://www.sylvan.k12.ca.us/schools/cf-brown/calendar/651573
 8/october-16-2024-unity-day
DTSTART;VALUE=DATE:20241016
DTEND;VALUE=DATE:20241017
END:VEVENT
END:VCALENDAR
