BEGIN:VCALENDAR
VERSION:2.0
PRODID:SchoolNow
CALSCALE:GREGORIAN
BEGIN:VEVENT
UID:d44d4f7c-6a2f-11ef-bb3c-0a58a9feac02
DTSTAMP:20240903T200512Z
SUMMARY:November 4-8\, 2024 - Parent-Teacher Conferences
URL;VALUE=URI:https://www.sylvan.k12.ca.us/schools/cf-brown/calendar/651578
 6/november-4-8-2024-parent-teacher-conferences
DTSTART;VALUE=DATE:20241104
DTEND;VALUE=DATE:20241109
END:VEVENT
END:VCALENDAR
