BEGIN:VCALENDAR
VERSION:2.0
PRODID:SchoolNow
CALSCALE:GREGORIAN
BEGIN:VEVENT
UID:09d06a62-6a30-11ef-b634-0a58a9feac02
DTSTAMP:20240903T200642Z
SUMMARY:November 11\, 2024 - No School
URL;VALUE=URI:https://www.sylvan.k12.ca.us/schools/cf-brown/calendar/651578
 7/november-11-2024-no-school
DTSTART;VALUE=DATE:20241111
DTEND;VALUE=DATE:20241112
END:VEVENT
END:VCALENDAR
