BEGIN:VCALENDAR
VERSION:2.0
PRODID:SchoolNow
CALSCALE:GREGORIAN
BEGIN:VEVENT
UID:8ac646a0-6a30-11ef-bba8-02dea9ddefb1
DTSTAMP:20240903T201019Z
SUMMARY:November 27-29\, 2024 - Thanksgiving Break
URL;VALUE=URI:https://www.sylvan.k12.ca.us/schools/cf-brown/calendar/651579
 1/november-27-29-2024-thanksgiving-break
DTSTART;VALUE=DATE:20241127
DTEND;VALUE=DATE:20241130
END:VEVENT
END:VCALENDAR
