BEGIN:VCALENDAR
VERSION:2.0
PRODID:SchoolNow
CALSCALE:GREGORIAN
BEGIN:VEVENT
UID:55ce525c-6a31-11ef-b2b9-0a58a9feac02
DTSTAMP:20240903T201559Z
SUMMARY:December 23\, 2024 - January 10\, 2025 - Winter Break
URL;VALUE=URI:https://www.sylvan.k12.ca.us/schools/cf-brown/calendar/651579
 3/december-23-2024-january-10-2025-winter-break
DTSTART;VALUE=DATE:20241223
DTEND;VALUE=DATE:20250111
END:VEVENT
END:VCALENDAR
