BEGIN:VCALENDAR
VERSION:2.0
PRODID:SchoolNow
CALSCALE:GREGORIAN
BEGIN:VEVENT
UID:9249ebf6-6a31-11ef-9bc8-0a58a9feac02
DTSTAMP:20240903T201741Z
SUMMARY:February 10\, 2025 - No School
URL;VALUE=URI:https://www.sylvan.k12.ca.us/schools/cf-brown/calendar/651579
 5/february-10-2025-no-school
DTSTART;VALUE=DATE:20250210
DTEND;VALUE=DATE:20250211
END:VEVENT
END:VCALENDAR
