BEGIN:VCALENDAR
VERSION:2.0
PRODID:SchoolNow
CALSCALE:GREGORIAN
BEGIN:VEVENT
UID:9d6e0da0-6a31-11ef-b4ae-0a58a9feac02
DTSTAMP:20240903T201759Z
SUMMARY:February 17\, 2025 - No School
URL;VALUE=URI:https://www.sylvan.k12.ca.us/schools/cf-brown/calendar/651579
 6/february-17-2025-no-school
DTSTART;VALUE=DATE:20250217
DTEND;VALUE=DATE:20250218
END:VEVENT
END:VCALENDAR
