BEGIN:VCALENDAR
VERSION:2.0
PRODID:SchoolNow
CALSCALE:GREGORIAN
BEGIN:VEVENT
UID:c6ac9ac4-6a31-11ef-9048-0a58a9feac02
DTSTAMP:20240903T201909Z
SUMMARY:April 18\, 2025 - No School
URL;VALUE=URI:https://www.sylvan.k12.ca.us/schools/cf-brown/calendar/651579
 7/april-18-2025-no-school
DTSTART;VALUE=DATE:20250418
DTEND;VALUE=DATE:20250419
END:VEVENT
END:VCALENDAR
