BEGIN:VCALENDAR
VERSION:2.0
PRODID:SchoolNow
CALSCALE:GREGORIAN
BEGIN:VEVENT
UID:0bfa79f2-6a32-11ef-b1b0-0a58a9feac02
DTSTAMP:20240903T202105Z
SUMMARY:March 4-6\, 2025 - Parent Teacher Conferences
URL;VALUE=URI:https://www.sylvan.k12.ca.us/schools/cf-brown/calendar/651668
 6/march-4-6-2025-parent-teacher-conferences
DTSTART;VALUE=DATE:20250304
DTEND;VALUE=DATE:20250307
END:VEVENT
END:VCALENDAR
