BEGIN:VCALENDAR
VERSION:2.0
PRODID:SchoolNow
CALSCALE:GREGORIAN
BEGIN:VEVENT
UID:48fe4324-6a32-11ef-a91e-0a58a9feac02
DTSTAMP:20240903T202247Z
SUMMARY:March 24-28\, 2025 - Spring Break
URL;VALUE=URI:https://www.sylvan.k12.ca.us/schools/cf-brown/calendar/651778
 9/march-24-28-2025-spring-break
DTSTART;VALUE=DATE:20250324
DTEND;VALUE=DATE:20250329
END:VEVENT
END:VCALENDAR
