BEGIN:VCALENDAR
VERSION:2.0
PRODID:SchoolNow
CALSCALE:GREGORIAN
BEGIN:VEVENT
UID:6e78c6d8-6a32-11ef-8381-0a58a9feac02
DTSTAMP:20240903T202350Z
SUMMARY:May 8\, 2025 - Open House
URL;VALUE=URI:https://www.sylvan.k12.ca.us/schools/cf-brown/calendar/651779
 0/may-8-2025-open-house
DTSTART;VALUE=DATE:20250508
DTEND;VALUE=DATE:20250509
END:VEVENT
END:VCALENDAR
