BEGIN:VCALENDAR
VERSION:2.0
PRODID:SchoolNow
CALSCALE:GREGORIAN
BEGIN:VEVENT
UID:d3607c76-6a32-11ef-a828-0a58a9feac02
DTSTAMP:20240903T202639Z
SUMMARY:May 8\, 2025 - Early Dismissal @ 1:25 PM
URL;VALUE=URI:https://www.sylvan.k12.ca.us/schools/cf-brown/calendar/651779
 3/may-8-2025-early-dismissal-1-25-pm
DTSTART:20250508T202500Z
DTEND:20250508T212500Z
END:VEVENT
END:VCALENDAR
