BEGIN:VCALENDAR
VERSION:2.0
PRODID:SchoolNow
CALSCALE:GREGORIAN
BEGIN:VEVENT
UID:3fc70dd0-6a33-11ef-bc90-0a58a9feac02
DTSTAMP:20240903T202941Z
SUMMARY:May 23\, 2025 - Early Dismissal @ 1:25 PM
URL;VALUE=URI:https://www.sylvan.k12.ca.us/schools/cf-brown/calendar/651779
 5/may-23-2025-early-dismissal-1-25-pm
DTSTART:20250523T202500Z
DTEND:20250523T212500Z
END:VEVENT
END:VCALENDAR
