BEGIN:VCALENDAR
VERSION:2.0
PRODID:SchoolNow
CALSCALE:GREGORIAN
BEGIN:VEVENT
UID:2beca352-6b0e-11ef-b76e-0a58a9feac02
DTSTAMP:20240904T223648Z
SUMMARY:September 17\, 2024 -  Constitution Day
URL;VALUE=URI:https://www.sylvan.k12.ca.us/schools/cf-brown/calendar/652638
 2/september-17-2024-constitution-day
DTSTART;VALUE=DATE:20240917
DTEND;VALUE=DATE:20240918
END:VEVENT
END:VCALENDAR
