BEGIN:VCALENDAR
VERSION:2.0
PRODID:SchoolNow
CALSCALE:GREGORIAN
BEGIN:VEVENT
UID:daea8c88-3cb5-11f0-8cac-0a58a9feac02
DTSTAMP:20250529T175340Z
SUMMARY:August 14\, 2025 - Back to School Night
URL;VALUE=URI:https://www.sylvan.k12.ca.us/schools/cf-brown/calendar/822077
 2/august-14-2025-back-to-school-night
DTSTART;VALUE=DATE:20250814
DTEND;VALUE=DATE:20250815
END:VEVENT
END:VCALENDAR
