BEGIN:VCALENDAR
VERSION:2.0
PRODID:SchoolNow
CALSCALE:GREGORIAN
BEGIN:VEVENT
UID:f34bf1f4-3cb5-11f0-acf3-0affeeccff39
DTSTAMP:20250529T175421Z
SUMMARY:August 14\, 2025 - Early Dismissal @ 1:25 PM
URL;VALUE=URI:https://www.sylvan.k12.ca.us/schools/cf-brown/calendar/822077
 3/august-14-2025-early-dismissal-1-25-pm
DTSTART:20250814T202500Z
DTEND:20250814T212500Z
END:VEVENT
END:VCALENDAR
