BEGIN:VCALENDAR
VERSION:2.0
PRODID:SchoolNow
CALSCALE:GREGORIAN
BEGIN:VEVENT
UID:1aaba96a-3cb6-11f0-923c-0eb905e51b7d
DTSTAMP:20250529T175527Z
SUMMARY:September 1\, 2025 - No School
URL;VALUE=URI:https://www.sylvan.k12.ca.us/schools/cf-brown/calendar/822077
 4/september-1-2025-no-school
DTSTART;VALUE=DATE:20250901
DTEND;VALUE=DATE:20250902
END:VEVENT
END:VCALENDAR
