BEGIN:VCALENDAR
VERSION:2.0
PRODID:SchoolNow
CALSCALE:GREGORIAN
BEGIN:VEVENT
UID:f5f63544-3cb6-11f0-ac31-023b6e08e957
DTSTAMP:20250529T180135Z
SUMMARY:October 10-13\, 2025 - No School
URL;VALUE=URI:https://www.sylvan.k12.ca.us/schools/cf-brown/calendar/822077
 5/october-10-13-2025-no-school
DTSTART;VALUE=DATE:20251010
DTEND;VALUE=DATE:20251014
END:VEVENT
END:VCALENDAR
