BEGIN:VCALENDAR
VERSION:2.0
PRODID:SchoolNow
CALSCALE:GREGORIAN
BEGIN:VEVENT
UID:b2155c02-3cba-11f0-82f4-0affeeccff39
DTSTAMP:20250529T182819Z
SUMMARY:August 20\, 2025 - Early Dismissal @ 1:25 PM
URL;VALUE=URI:https://www.sylvan.k12.ca.us/schools/cf-brown/calendar/822079
 5/august-20-2025-early-dismissal-1-25-pm
DTSTART:20250820T202500Z
DTEND:20250820T212500Z
END:VEVENT
END:VCALENDAR
