BEGIN:VCALENDAR
VERSION:2.0
PRODID:SchoolNow
CALSCALE:GREGORIAN
BEGIN:VEVENT
UID:768121e8-3cbb-11f0-831a-0a58a9feac02
DTSTAMP:20250529T183349Z
SUMMARY:August 27\, 2025 - Early Dismissal @ 1:25 PM
URL;VALUE=URI:https://www.sylvan.k12.ca.us/schools/cf-brown/calendar/822079
 6/august-27-2025-early-dismissal-1-25-pm
DTSTART:20250827T202500Z
DTEND:20250827T212500Z
END:VEVENT
END:VCALENDAR
