BEGIN:VCALENDAR
VERSION:2.0
PRODID:SchoolNow
CALSCALE:GREGORIAN
BEGIN:VEVENT
UID:82d521ce-3cbb-11f0-b22a-0a58a9feac02
DTSTAMP:20250529T183410Z
SUMMARY:September 3\, 2025 - Early Dismissal @ 1:25 PM
URL;VALUE=URI:https://www.sylvan.k12.ca.us/schools/cf-brown/calendar/822079
 7/september-3-2025-early-dismissal-1-25-pm
DTSTART:20250903T202500Z
DTEND:20250903T212500Z
END:VEVENT
END:VCALENDAR
