BEGIN:VCALENDAR
VERSION:2.0
PRODID:SchoolNow
CALSCALE:GREGORIAN
BEGIN:VEVENT
UID:995d2cac-3cbb-11f0-9b01-0a58a9feac02
DTSTAMP:20250529T183447Z
SUMMARY:September 10\, 2025 - Early Dismissal @ 1:25 PM
URL;VALUE=URI:https://www.sylvan.k12.ca.us/schools/cf-brown/calendar/822079
 8/september-10-2025-early-dismissal-1-25-pm
DTSTART:20250910T202500Z
DTEND:20250910T212500Z
END:VEVENT
END:VCALENDAR
