BEGIN:VCALENDAR
VERSION:2.0
PRODID:SchoolNow
CALSCALE:GREGORIAN
BEGIN:VEVENT
UID:a35faa12-3cbc-11f0-a60f-0a58a9feac02
DTSTAMP:20250529T184214Z
SUMMARY:September 17\, 2025 - Early Dismissal @ 1:25 PM
URL;VALUE=URI:https://www.sylvan.k12.ca.us/schools/cf-brown/calendar/822079
 9/september-17-2025-early-dismissal-1-25-pm
DTSTART:20250917T202500Z
DTEND:20250917T212500Z
END:VEVENT
END:VCALENDAR
