BEGIN:VCALENDAR
VERSION:2.0
PRODID:SchoolNow
CALSCALE:GREGORIAN
BEGIN:VEVENT
UID:b4c9dc1e-3cbc-11f0-83c7-0affeeccff39
DTSTAMP:20250529T184243Z
SUMMARY:September 24\, 2025 - Early Dismissal @ 1:25 PM
URL;VALUE=URI:https://www.sylvan.k12.ca.us/schools/cf-brown/calendar/822080
 0/september-24-2025-early-dismissal-1-25-pm
DTSTART:20250924T202500Z
DTEND:20250924T212500Z
END:VEVENT
END:VCALENDAR
