BEGIN:VCALENDAR
VERSION:2.0
PRODID:SchoolNow
CALSCALE:GREGORIAN
BEGIN:VEVENT
UID:daa66498-3cbc-11f0-bde9-0affeeccff39
DTSTAMP:20250529T184346Z
SUMMARY:October 1\, 2025 - Early Dismissal @ 1:25 PM
URL;VALUE=URI:https://www.sylvan.k12.ca.us/schools/cf-brown/calendar/822080
 1/october-1-2025-early-dismissal-1-25-pm
DTSTART:20251001T202500Z
DTEND:20251001T212500Z
END:VEVENT
END:VCALENDAR
