BEGIN:VCALENDAR
VERSION:2.0
PRODID:SchoolNow
CALSCALE:GREGORIAN
BEGIN:VEVENT
UID:ef0c3368-3cbc-11f0-a76c-0a58a9feac02
DTSTAMP:20250529T184421Z
SUMMARY:October 8\, 2025 - Early Dismissal @ 1:25 PM
URL;VALUE=URI:https://www.sylvan.k12.ca.us/schools/cf-brown/calendar/822080
 2/october-8-2025-early-dismissal-1-25-pm
DTSTART:20251008T202500Z
DTEND:20251008T212500Z
END:VEVENT
END:VCALENDAR
