BEGIN:VCALENDAR
VERSION:2.0
PRODID:SchoolNow
CALSCALE:GREGORIAN
BEGIN:VEVENT
UID:0802e9e8-3cbd-11f0-bbe7-02181c83b4fb
DTSTAMP:20250529T184502Z
SUMMARY:October 15\, 2025 - Early Dismissal @ 1:25 PM
URL;VALUE=URI:https://www.sylvan.k12.ca.us/schools/cf-brown/calendar/822080
 3/october-15-2025-early-dismissal-1-25-pm
DTSTART:20251015T202500Z
DTEND:20251015T212500Z
END:VEVENT
END:VCALENDAR
