BEGIN:VCALENDAR
VERSION:2.0
PRODID:SchoolNow
CALSCALE:GREGORIAN
BEGIN:VEVENT
UID:142194cc-3cbd-11f0-9bcc-0eb905e51b7d
DTSTAMP:20250529T184523Z
SUMMARY:October 22\, 2025 - Early Dismissal @ 1:25 PM
URL;VALUE=URI:https://www.sylvan.k12.ca.us/schools/cf-brown/calendar/822098
 3/october-22-2025-early-dismissal-1-25-pm
DTSTART:20251022T202500Z
DTEND:20251022T212500Z
END:VEVENT
END:VCALENDAR
