BEGIN:VCALENDAR
VERSION:2.0
PRODID:SchoolNow
CALSCALE:GREGORIAN
BEGIN:VEVENT
UID:1ea5efe2-3cbd-11f0-b9bc-0a58a9feac02
DTSTAMP:20250529T184540Z
SUMMARY:October 29\, 2025 - Early Dismissal @ 1:25 PM
URL;VALUE=URI:https://www.sylvan.k12.ca.us/schools/cf-brown/calendar/822129
 0/october-29-2025-early-dismissal-1-25-pm
DTSTART:20251029T202500Z
DTEND:20251029T212500Z
END:VEVENT
END:VCALENDAR
