BEGIN:VCALENDAR
VERSION:2.0
PRODID:SchoolNow
CALSCALE:GREGORIAN
BEGIN:VEVENT
UID:5c8ccf3c-3cbe-11f0-9102-0a58a9feac02
DTSTAMP:20250529T185434Z
SUMMARY:February 4\, 2026 - Early Dismissal @ 1:25 PM
URL;VALUE=URI:https://www.sylvan.k12.ca.us/schools/cf-brown/calendar/822212
 9/february-4-2026-early-dismissal-1-25-pm
DTSTART:20260204T212500Z
DTEND:20260204T222500Z
END:VEVENT
END:VCALENDAR
