BEGIN:VCALENDAR
VERSION:2.0
PRODID:SchoolNow
CALSCALE:GREGORIAN
BEGIN:VEVENT
UID:10d45066-4bae-11f0-9e7e-0a58a9feac02
DTSTAMP:20251121T133525Z
SUMMARY:Minimum Day
URL;VALUE=URI:https://www.sylvan.k12.ca.us/schools/freedom/calendar/8320302
 /minimum-day
DTSTART;VALUE=DATE:20260506
DTEND;VALUE=DATE:20260507
END:VEVENT
END:VCALENDAR
