BEGIN:VCALENDAR
VERSION:2.0
PRODID:SchoolNow
CALSCALE:GREGORIAN
BEGIN:VEVENT
UID:5fcd4142-7228-11ef-9e69-0e6e046549ed
DTSTAMP:20240913T233200Z
SUMMARY:Jog-a-Thon - September 27\, 2024
URL;VALUE=URI:https://www.sylvan.k12.ca.us/schools/freedom/pta/calendar/659
 7629/jog-a-thon-september-27-2024
DTSTART;VALUE=DATE:20240927
DTEND;VALUE=DATE:20240928
END:VEVENT
END:VCALENDAR
