BEGIN:VCALENDAR
VERSION:2.0
PRODID:SchoolNow
CALSCALE:GREGORIAN
BEGIN:VEVENT
UID:8161fa8c-7228-11ef-be6d-0a58a9feac02
DTSTAMP:20240913T233348Z
SUMMARY:Trunk or Treat - September 25\, 2024
URL;VALUE=URI:https://www.sylvan.k12.ca.us/schools/freedom/pta/calendar/659
 7630/trunk-or-treat
DTSTART;VALUE=DATE:20240925
DTEND;VALUE=DATE:20240926
END:VEVENT
END:VCALENDAR
