BEGIN:VCALENDAR
VERSION:2.0
PRODID:SchoolNow
CALSCALE:GREGORIAN
BEGIN:VEVENT
UID:969dd042-7228-11ef-baa0-0e7de8be0623
DTSTAMP:20240913T233332Z
SUMMARY:Parent Teacher Conference and Book Fair 2024
URL;VALUE=URI:https://www.sylvan.k12.ca.us/schools/freedom/pta/calendar/659
 7631/parent-teacher-conference-and-book-fair-2024
DTSTART;VALUE=DATE:20241104
DTEND;VALUE=DATE:20241109
END:VEVENT
END:VCALENDAR
