BEGIN:VCALENDAR
VERSION:2.0
PRODID:SchoolNow
CALSCALE:GREGORIAN
BEGIN:VEVENT
UID:9ff4a670-2096-11ec-9444-02b54d66679b
DTSTAMP:20220920T174732Z
SUMMARY:PARENT TEACHER CONFERENCES
URL;VALUE=URI:https://www.sylvan.k12.ca.us/schools/mary-ann-sanders/calenda
 r/2774154/parent-teacher-conferences
DTSTART;VALUE=DATE:20221107
DTEND;VALUE=DATE:20221115
END:VEVENT
END:VCALENDAR
