BEGIN:VCALENDAR
VERSION:2.0
PRODID:SchoolNow
CALSCALE:GREGORIAN
BEGIN:VEVENT
UID:d49e316a-2097-11ec-85a5-02b54d66679b
DTSTAMP:20220920T175135Z
SUMMARY:THANKSGIVING HOLIDAY - NO SCHOOL
URL;VALUE=URI:https://www.sylvan.k12.ca.us/schools/mary-ann-sanders/calenda
 r/2774156/thanksgiving-holiday-no-school
DTSTART:20221123T080000Z
DTEND:20221128T075900Z
END:VEVENT
END:VCALENDAR
