BEGIN:VCALENDAR
VERSION:2.0
PRODID:SchoolNow
CALSCALE:GREGORIAN
BEGIN:VEVENT
UID:1b8dff60-2098-11ec-b210-02b54d66679b
DTSTAMP:20221215T215714Z
SUMMARY:WINTER BREAK - Office closed
URL;VALUE=URI:https://www.sylvan.k12.ca.us/schools/mary-ann-sanders/calenda
 r/2774157/winter-break
DTSTART;VALUE=DATE:20221217
DTEND;VALUE=DATE:20230109
END:VEVENT
END:VCALENDAR
