BEGIN:VCALENDAR
VERSION:2.0
PRODID:SchoolNow
CALSCALE:GREGORIAN
BEGIN:VEVENT
UID:64cdb814-48bb-11ec-810f-0eb632a38f95
DTSTAMP:20220920T174956Z
SUMMARY:MINIMUM DAY - dismissal at 1:40 pm
URL;VALUE=URI:https://www.sylvan.k12.ca.us/schools/mary-ann-sanders/calenda
 r/2901231/minimum-day-dismissal-at-1-40-pm
DTSTART:20221122T080000Z
DTEND:20221123T075900Z
END:VEVENT
END:VCALENDAR
