BEGIN:VCALENDAR
VERSION:2.0
PRODID:SchoolNow
CALSCALE:GREGORIAN
BEGIN:VEVENT
UID:bcc6411c-496a-11ec-beb5-0e7114e9716d
DTSTAMP:20220920T175316Z
SUMMARY:MARTIN LUTHER KING HOLIDAY - NO SCHOOL
URL;VALUE=URI:https://www.sylvan.k12.ca.us/schools/mary-ann-sanders/calenda
 r/2902199/martin-luther-king-holiday-no-school
DTSTART;VALUE=DATE:20230116
DTEND;VALUE=DATE:20230117
END:VEVENT
END:VCALENDAR
