BEGIN:VCALENDAR
VERSION:2.0
PRODID:SchoolNow
CALSCALE:GREGORIAN
BEGIN:VEVENT
UID:917952fa-496b-11ec-8a47-0e7114e9716d
DTSTAMP:20220919T210146Z
SUMMARY:LINCOLN'S BIRTHDAY - NO SCHOOL
URL;VALUE=URI:https://www.sylvan.k12.ca.us/schools/mary-ann-sanders/calenda
 r/2902200/lincolns-birthday-no-school
DTSTART;VALUE=DATE:20230213
DTEND;VALUE=DATE:20230214
END:VEVENT
END:VCALENDAR
