BEGIN:VCALENDAR
VERSION:2.0
PRODID:SchoolNow
CALSCALE:GREGORIAN
BEGIN:VEVENT
UID:afecc62c-496b-11ec-8ae0-0e7114e9716d
DTSTAMP:20220919T210216Z
SUMMARY:PRESIDENTS' DAY - NO SCHOOL
URL;VALUE=URI:https://www.sylvan.k12.ca.us/schools/mary-ann-sanders/calenda
 r/2902201/presidents-day-no-school
DTSTART;VALUE=DATE:20230220
DTEND;VALUE=DATE:20230221
END:VEVENT
END:VCALENDAR
