BEGIN:VCALENDAR
VERSION:2.0
PRODID:SchoolNow
CALSCALE:GREGORIAN
BEGIN:VEVENT
UID:d233267c-496b-11ec-a6e9-0aed4a485a3f
DTSTAMP:20220920T175359Z
SUMMARY:SPRING BREAK
URL;VALUE=URI:https://www.sylvan.k12.ca.us/schools/mary-ann-sanders/calenda
 r/2902202/spring-break
DTSTART;VALUE=DATE:20230318
DTEND;VALUE=DATE:20230327
END:VEVENT
END:VCALENDAR
