BEGIN:VCALENDAR
VERSION:2.0
PRODID:SchoolNow
CALSCALE:GREGORIAN
BEGIN:VEVENT
UID:ea6c4f48-496b-11ec-af86-0a748cc9a421
DTSTAMP:20220920T175412Z
SUMMARY:GOOD FRIDAY - NO SCHOOL
URL;VALUE=URI:https://www.sylvan.k12.ca.us/schools/mary-ann-sanders/calenda
 r/2902203/good-friday-no-school
DTSTART;VALUE=DATE:20230407
DTEND;VALUE=DATE:20230408
END:VEVENT
END:VCALENDAR
