BEGIN:VCALENDAR
VERSION:2.0
PRODID:SchoolNow
CALSCALE:GREGORIAN
BEGIN:VEVENT
UID:ff7b64d6-496c-11ec-a39e-0af1d269ed1f
DTSTAMP:20220920T175342Z
SUMMARY:PARENT TEACHER CONFERENCES - MINIMUM DAYS\, dismissal 1:40 pm
URL;VALUE=URI:https://www.sylvan.k12.ca.us/schools/mary-ann-sanders/calenda
 r/2902204/parent-teacher-conferences-minimum-days
DTSTART:20230307T080000Z
DTEND:20230310T075900Z
END:VEVENT
END:VCALENDAR
