BEGIN:VCALENDAR
VERSION:2.0
PRODID:SchoolNow
CALSCALE:GREGORIAN
BEGIN:VEVENT
UID:4071a888-496d-11ec-8132-02f649737131
DTSTAMP:20220919T210712Z
SUMMARY:LAST DAY OF SCHOOL - MINIMUM DAY\, dismissal 1:40 pm
URL;VALUE=URI:https://www.sylvan.k12.ca.us/schools/mary-ann-sanders/calenda
 r/2902205/last-day-of-school-minimum-day
DTSTART;VALUE=DATE:20230526
DTEND;VALUE=DATE:20230527
END:VEVENT
END:VCALENDAR
