BEGIN:VCALENDAR
VERSION:2.0
PRODID:SchoolNow
CALSCALE:GREGORIAN
BEGIN:VEVENT
UID:4f26e9f6-496d-11ec-b9c9-02f649737131
DTSTAMP:20230419T151713Z
SUMMARY:OPEN HOUSE - MINIMUM DAY\, dismissal 1:40 pm
URL;VALUE=URI:https://www.sylvan.k12.ca.us/schools/mary-ann-sanders/calenda
 r/2902206/open-house-minimum-day
DTSTART:20230512T010000Z
DTEND:20230512T020000Z
END:VEVENT
END:VCALENDAR
