BEGIN:VCALENDAR
VERSION:2.0
PRODID:SchoolNow
CALSCALE:GREGORIAN
BEGIN:VEVENT
UID:b8e05dda-4be5-11ec-b9fc-0e5b0380bf1b
DTSTAMP:20220920T175211Z
SUMMARY:MINIMUM DAY - 1:40 dismissal
URL;VALUE=URI:https://www.sylvan.k12.ca.us/schools/mary-ann-sanders/calenda
 r/2908835/minimum-day-1-40-dismissal
DTSTART:20221216T080000Z
DTEND:20221217T075900Z
END:VEVENT
END:VCALENDAR
